BEGIN:VCALENDAR
VERSION:2.0
PRODID:-//B.P.O. Elks Lodge #1682 - ECPv6.15.20//NONSGML v1.0//EN
CALSCALE:GREGORIAN
METHOD:PUBLISH
X-WR-CALNAME:B.P.O. Elks Lodge #1682
X-ORIGINAL-URL:https://bouldercityelks1682.org
X-WR-CALDESC:Events for B.P.O. Elks Lodge #1682
REFRESH-INTERVAL;VALUE=DURATION:PT1H
X-Robots-Tag:noindex
X-PUBLISHED-TTL:PT1H
BEGIN:VTIMEZONE
TZID:America/Los_Angeles
BEGIN:DAYLIGHT
TZOFFSETFROM:-0800
TZOFFSETTO:-0700
TZNAME:PDT
DTSTART:20240310T100000
END:DAYLIGHT
BEGIN:STANDARD
TZOFFSETFROM:-0700
TZOFFSETTO:-0800
TZNAME:PST
DTSTART:20241103T090000
END:STANDARD
BEGIN:DAYLIGHT
TZOFFSETFROM:-0800
TZOFFSETTO:-0700
TZNAME:PDT
DTSTART:20250309T100000
END:DAYLIGHT
BEGIN:STANDARD
TZOFFSETFROM:-0700
TZOFFSETTO:-0800
TZNAME:PST
DTSTART:20251102T090000
END:STANDARD
BEGIN:DAYLIGHT
TZOFFSETFROM:-0800
TZOFFSETTO:-0700
TZNAME:PDT
DTSTART:20260308T100000
END:DAYLIGHT
BEGIN:STANDARD
TZOFFSETFROM:-0700
TZOFFSETTO:-0800
TZNAME:PST
DTSTART:20261101T090000
END:STANDARD
END:VTIMEZONE
BEGIN:VEVENT
DTSTART;TZID=America/Los_Angeles:20250516T190000
DTEND;TZID=America/Los_Angeles:20250516T220000
DTSTAMP:20260423T171649
CREATED:20250502T134543Z
LAST-MODIFIED:20250502T134602Z
UID:10000319-1747422000-1747432800@bouldercityelks1682.org
SUMMARY:Karaoke with Bill Montana
DESCRIPTION:
URL:https://bouldercityelks1682.org/event/karaoke-with-bill-montana-26/
LOCATION:Elks Lodge #1682\, 1217 Boulder City Parkway\, Boulder City\, NV\, 89005\, United States
CATEGORIES:Non-members Welcome when Accompanied by Member
ATTACH;FMTTYPE=image/jpeg:https://bouldercityelks1682.org/wp-content/uploads/2025-05-16-Karaoke-with-Bill-Montana.jpg
END:VEVENT
BEGIN:VEVENT
DTSTART;TZID=America/Los_Angeles:20250511T110000
DTEND;TZID=America/Los_Angeles:20250511T130000
DTSTAMP:20260423T171649
CREATED:20250329T141925Z
LAST-MODIFIED:20250329T141925Z
UID:10000312-1746961200-1746968400@bouldercityelks1682.org
SUMMARY:Mother's Day Champagne Brunch
DESCRIPTION:
URL:https://bouldercityelks1682.org/event/mothers-day-champagne-brunch/
LOCATION:Elks Lodge #1682\, 1217 Boulder City Parkway\, Boulder City\, NV\, 89005\, United States
CATEGORIES:Non-members Welcome when Accompanied by Member
ATTACH;FMTTYPE=image/jpeg:https://bouldercityelks1682.org/wp-content/uploads/2025-05-11-Mothers-Day-Champagne-Brunch.jpg
END:VEVENT
BEGIN:VEVENT
DTSTART;TZID=America/Los_Angeles:20250509T190000
DTEND;TZID=America/Los_Angeles:20250509T210000
DTSTAMP:20260423T171649
CREATED:20250502T134435Z
LAST-MODIFIED:20250502T134435Z
UID:10000318-1746817200-1746824400@bouldercityelks1682.org
SUMMARY:Trivia Night
DESCRIPTION:
URL:https://bouldercityelks1682.org/event/trivia-night-3/
LOCATION:Elks Lodge #1682\, 1217 Boulder City Parkway\, Boulder City\, NV\, 89005\, United States
CATEGORIES:Non-members Welcome when Accompanied by Member
ATTACH;FMTTYPE=image/jpeg:https://bouldercityelks1682.org/wp-content/uploads/2025-05-09-Trivia-Night.jpg
END:VEVENT
BEGIN:VEVENT
DTSTART;TZID=America/Los_Angeles:20250509T170000
DTEND;TZID=America/Los_Angeles:20250509T190000
DTSTAMP:20260423T171649
CREATED:20250502T134327Z
LAST-MODIFIED:20250502T134327Z
UID:10000317-1746810000-1746817200@bouldercityelks1682.org
SUMMARY:DeRosa's Pizza
DESCRIPTION:
URL:https://bouldercityelks1682.org/event/derosas-pizza-7/
LOCATION:Elks Lodge #1682\, 1217 Boulder City Parkway\, Boulder City\, NV\, 89005\, United States
CATEGORIES:Non-members Welcome when Accompanied by Member
ATTACH;FMTTYPE=image/jpeg:https://bouldercityelks1682.org/wp-content/uploads/2025-05-09-Pizza.jpg
END:VEVENT
BEGIN:VEVENT
DTSTART;TZID=America/Los_Angeles:20250504T143000
DTEND;TZID=America/Los_Angeles:20250504T180000
DTSTAMP:20260423T171649
CREATED:20250502T134210Z
LAST-MODIFIED:20250502T134210Z
UID:10000316-1746369000-1746381600@bouldercityelks1682.org
SUMMARY:BINGO
DESCRIPTION:
URL:https://bouldercityelks1682.org/event/bingo-45/
LOCATION:Elks Lodge #1682\, 1217 Boulder City Parkway\, Boulder City\, NV\, 89005\, United States
CATEGORIES:Non-members Welcome
ATTACH;FMTTYPE=image/jpeg:https://bouldercityelks1682.org/wp-content/uploads/2025-05-04-BINGO.jpg
END:VEVENT
BEGIN:VEVENT
DTSTART;TZID=America/Los_Angeles:20250502T190000
DTEND;TZID=America/Los_Angeles:20250502T220000
DTSTAMP:20260423T171649
CREATED:20250502T134117Z
LAST-MODIFIED:20250502T134117Z
UID:10000315-1746212400-1746223200@bouldercityelks1682.org
SUMMARY:Karaoke with 'H'
DESCRIPTION:
URL:https://bouldercityelks1682.org/event/karaoke-with-h-30/
LOCATION:Elks Lodge #1682\, 1217 Boulder City Parkway\, Boulder City\, NV\, 89005\, United States
CATEGORIES:Non-members Welcome when Accompanied by Member
ATTACH;FMTTYPE=image/jpeg:https://bouldercityelks1682.org/wp-content/uploads/2025-05-02-Karaoke-with-H.jpg
END:VEVENT
BEGIN:VEVENT
DTSTART;TZID=America/Los_Angeles:20250501T080000
DTEND;TZID=America/Los_Angeles:20250501T190000
DTSTAMP:20260423T171649
CREATED:20250418T144653Z
LAST-MODIFIED:20250418T144653Z
UID:10000314-1746086400-1746126000@bouldercityelks1682.org
SUMMARY:ENF Fundraiser
DESCRIPTION:
URL:https://bouldercityelks1682.org/event/enf-fundraiser/
LOCATION:Elks Lodge #1682\, 1217 Boulder City Parkway\, Boulder City\, NV\, 89005\, United States
CATEGORIES:Members Only
ATTACH;FMTTYPE=image/jpeg:https://bouldercityelks1682.org/wp-content/uploads/2025-05-01-ENF-Fundraiser.jpg
END:VEVENT
BEGIN:VEVENT
DTSTART;TZID=America/Los_Angeles:20250430T080000
DTEND;TZID=America/Los_Angeles:20250430T220000
DTSTAMP:20260423T171649
CREATED:20250329T141758Z
LAST-MODIFIED:20250329T141758Z
UID:10000311-1746000000-1746050400@bouldercityelks1682.org
SUMMARY:April 2025 Events
DESCRIPTION:
URL:https://bouldercityelks1682.org/event/april-2025-events/
LOCATION:Elks Lodge #1682\, 1217 Boulder City Parkway\, Boulder City\, NV\, 89005\, United States
CATEGORIES:Non-members Welcome when Accompanied by Member
ATTACH;FMTTYPE=image/jpeg:https://bouldercityelks1682.org/wp-content/uploads/2025-04-30-April-2025-Events.jpg
END:VEVENT
BEGIN:VEVENT
DTSTART;TZID=America/Los_Angeles:20250425T180000
DTEND;TZID=America/Los_Angeles:20250425T220000
DTSTAMP:20260423T171649
CREATED:20250329T141655Z
LAST-MODIFIED:20250418T143933Z
UID:10000310-1745604000-1745618400@bouldercityelks1682.org
SUMMARY:Two-Step Lessons and Western Dance
DESCRIPTION:
URL:https://bouldercityelks1682.org/event/two-step-lessons-and-western-dance/
LOCATION:Elks Lodge #1682\, 1217 Boulder City Parkway\, Boulder City\, NV\, 89005\, United States
CATEGORIES:Non-members Welcome when Accompanied by Member
ATTACH;FMTTYPE=image/jpeg:https://bouldercityelks1682.org/wp-content/uploads/2025-04-25-Western-Dance-1.jpg
END:VEVENT
BEGIN:VEVENT
DTSTART;TZID=America/Los_Angeles:20250423T180000
DTEND;TZID=America/Los_Angeles:20250423T190000
DTSTAMP:20260423T171649
CREATED:20250329T141455Z
LAST-MODIFIED:20250329T141455Z
UID:10000309-1745431200-1745434800@bouldercityelks1682.org
SUMMARY:Three Elks with Noodles
DESCRIPTION:
URL:https://bouldercityelks1682.org/event/three-elks-with-noodles-17/
LOCATION:Elks Lodge #1682\, 1217 Boulder City Parkway\, Boulder City\, NV\, 89005\, United States
CATEGORIES:Non-members Welcome when Accompanied by Member
ATTACH;FMTTYPE=image/jpeg:https://bouldercityelks1682.org/wp-content/uploads/2025-04-23-Three-Elks-with-Noodles.jpg
END:VEVENT
END:VCALENDAR