BEGIN:VCALENDAR
VERSION:2.0
PRODID:-//B.P.O. Elks Lodge #1682 - ECPv6.15.20//NONSGML v1.0//EN
CALSCALE:GREGORIAN
METHOD:PUBLISH
X-WR-CALNAME:B.P.O. Elks Lodge #1682
X-ORIGINAL-URL:https://bouldercityelks1682.org
X-WR-CALDESC:Events for B.P.O. Elks Lodge #1682
REFRESH-INTERVAL;VALUE=DURATION:PT1H
X-Robots-Tag:noindex
X-PUBLISHED-TTL:PT1H
BEGIN:VTIMEZONE
TZID:America/Los_Angeles
BEGIN:DAYLIGHT
TZOFFSETFROM:-0800
TZOFFSETTO:-0700
TZNAME:PDT
DTSTART:20240310T100000
END:DAYLIGHT
BEGIN:STANDARD
TZOFFSETFROM:-0700
TZOFFSETTO:-0800
TZNAME:PST
DTSTART:20241103T090000
END:STANDARD
BEGIN:DAYLIGHT
TZOFFSETFROM:-0800
TZOFFSETTO:-0700
TZNAME:PDT
DTSTART:20250309T100000
END:DAYLIGHT
BEGIN:STANDARD
TZOFFSETFROM:-0700
TZOFFSETTO:-0800
TZNAME:PST
DTSTART:20251102T090000
END:STANDARD
BEGIN:DAYLIGHT
TZOFFSETFROM:-0800
TZOFFSETTO:-0700
TZNAME:PDT
DTSTART:20260308T100000
END:DAYLIGHT
BEGIN:STANDARD
TZOFFSETFROM:-0700
TZOFFSETTO:-0800
TZNAME:PST
DTSTART:20261101T090000
END:STANDARD
END:VTIMEZONE
BEGIN:VEVENT
DTSTART;TZID=America/Los_Angeles:20250723T180000
DTEND;TZID=America/Los_Angeles:20250723T190000
DTSTAMP:20260423T155622
CREATED:20250629T165342Z
LAST-MODIFIED:20250629T165342Z
UID:10000338-1753293600-1753297200@bouldercityelks1682.org
SUMMARY:Spaghetti Dinner
DESCRIPTION:
URL:https://bouldercityelks1682.org/event/spaghetti-dinner-2/
LOCATION:Elks Lodge #1682\, 1217 Boulder City Parkway\, Boulder City\, NV\, 89005\, United States
CATEGORIES:Non-members Welcome when Accompanied by Member
ATTACH;FMTTYPE=image/jpeg:https://bouldercityelks1682.org/wp-content/uploads/2025-07-23-Spaghetti-Dinner.jpg
END:VEVENT
BEGIN:VEVENT
DTSTART;TZID=America/Los_Angeles:20250718T190000
DTEND;TZID=America/Los_Angeles:20250718T220000
DTSTAMP:20260423T155622
CREATED:20250629T165215Z
LAST-MODIFIED:20250629T165215Z
UID:10000337-1752865200-1752876000@bouldercityelks1682.org
SUMMARY:Karaoke with Bill Montana
DESCRIPTION:
URL:https://bouldercityelks1682.org/event/karaoke-with-bill-montana-28/
LOCATION:Elks Lodge #1682\, 1217 Boulder City Parkway\, Boulder City\, NV\, 89005\, United States
CATEGORIES:Non-members Welcome when Accompanied by Member
ATTACH;FMTTYPE=image/jpeg:https://bouldercityelks1682.org/wp-content/uploads/2025-07-18-Karaoke-with-Bill-Montana.jpg
END:VEVENT
BEGIN:VEVENT
DTSTART;TZID=America/Los_Angeles:20250711T190000
DTEND;TZID=America/Los_Angeles:20250711T210000
DTSTAMP:20260423T155622
CREATED:20250629T165053Z
LAST-MODIFIED:20250629T165053Z
UID:10000336-1752260400-1752267600@bouldercityelks1682.org
SUMMARY:Trivia Night
DESCRIPTION:
URL:https://bouldercityelks1682.org/event/trivia-night-4/
LOCATION:Elks Lodge #1682\, 1217 Boulder City Parkway\, Boulder City\, NV\, 89005\, United States
CATEGORIES:Non-members Welcome when Accompanied by Member
ATTACH;FMTTYPE=image/jpeg:https://bouldercityelks1682.org/wp-content/uploads/2025-07-11-Trivia-Night.jpg
END:VEVENT
BEGIN:VEVENT
DTSTART;TZID=America/Los_Angeles:20250711T170000
DTEND;TZID=America/Los_Angeles:20250711T183000
DTSTAMP:20260423T155622
CREATED:20250629T164904Z
LAST-MODIFIED:20250629T164904Z
UID:10000335-1752253200-1752258600@bouldercityelks1682.org
SUMMARY:Pizza Night
DESCRIPTION:
URL:https://bouldercityelks1682.org/event/pizza-night/
LOCATION:Elks Lodge #1682\, 1217 Boulder City Parkway\, Boulder City\, NV\, 89005\, United States
CATEGORIES:Non-members Welcome when Accompanied by Member
ATTACH;FMTTYPE=image/jpeg:https://bouldercityelks1682.org/wp-content/uploads/2025-07-11-Pizza-Night.jpg
END:VEVENT
BEGIN:VEVENT
DTSTART;TZID=America/Los_Angeles:20250706T143000
DTEND;TZID=America/Los_Angeles:20250706T180000
DTSTAMP:20260423T155622
CREATED:20250701T155543Z
LAST-MODIFIED:20250701T155543Z
UID:10000354-1751812200-1751824800@bouldercityelks1682.org
SUMMARY:BINGO
DESCRIPTION:
URL:https://bouldercityelks1682.org/event/bingo-48/
LOCATION:Elks Lodge #1682\, 1217 Boulder City Parkway\, Boulder City\, NV\, 89005\, United States
CATEGORIES:Non-members Welcome
ATTACH;FMTTYPE=image/jpeg:https://bouldercityelks1682.org/wp-content/uploads/2025-07-06-BINGO.jpg
END:VEVENT
BEGIN:VEVENT
DTSTART;TZID=America/Los_Angeles:20250704T170000
DTEND;TZID=America/Los_Angeles:20250704T190000
DTSTAMP:20260423T155622
CREATED:20250629T164743Z
LAST-MODIFIED:20250629T164743Z
UID:10000334-1751648400-1751655600@bouldercityelks1682.org
SUMMARY:4th of July Burgers
DESCRIPTION:
URL:https://bouldercityelks1682.org/event/4th-of-july-burgers-2/
LOCATION:Elks Lodge #1682\, 1217 Boulder City Parkway\, Boulder City\, NV\, 89005\, United States
CATEGORIES:Non-members Welcome when Accompanied by Member
ATTACH;FMTTYPE=image/jpeg:https://bouldercityelks1682.org/wp-content/uploads/2025-07-04-4th-of-July-Burgers.jpg
END:VEVENT
BEGIN:VEVENT
DTSTART;TZID=America/Los_Angeles:20250630T080000
DTEND;TZID=America/Los_Angeles:20250630T220000
DTSTAMP:20260423T155622
CREATED:20250530T155534Z
LAST-MODIFIED:20250530T155534Z
UID:10000333-1751270400-1751320800@bouldercityelks1682.org
SUMMARY:June 2025 Events
DESCRIPTION:
URL:https://bouldercityelks1682.org/event/june-2025-events/
LOCATION:Elks Lodge #1682\, 1217 Boulder City Parkway\, Boulder City\, NV\, 89005\, United States
CATEGORIES:Non-members Welcome when Accompanied by Member
ATTACH;FMTTYPE=image/jpeg:https://bouldercityelks1682.org/wp-content/uploads/2025-06-30-June-2025-Events.jpg
END:VEVENT
BEGIN:VEVENT
DTSTART;TZID=America/Los_Angeles:20250627T180000
DTEND;TZID=America/Los_Angeles:20250627T220000
DTSTAMP:20260423T155622
CREATED:20250530T155436Z
LAST-MODIFIED:20250530T155436Z
UID:10000332-1751047200-1751061600@bouldercityelks1682.org
SUMMARY:Line Dancing
DESCRIPTION:
URL:https://bouldercityelks1682.org/event/line-dancing/
LOCATION:Elks Lodge #1682\, 1217 Boulder City Parkway\, Boulder City\, NV\, 89005\, United States
CATEGORIES:Non-members Welcome when Accompanied by Member
ATTACH;FMTTYPE=image/jpeg:https://bouldercityelks1682.org/wp-content/uploads/2025-06-27-Line-Dancing.jpg
END:VEVENT
BEGIN:VEVENT
DTSTART;TZID=America/Los_Angeles:20250625T180000
DTEND;TZID=America/Los_Angeles:20250625T190000
DTSTAMP:20260423T155622
CREATED:20250530T155324Z
LAST-MODIFIED:20250530T155324Z
UID:10000331-1750874400-1750878000@bouldercityelks1682.org
SUMMARY:Three Elks with Noodles
DESCRIPTION:
URL:https://bouldercityelks1682.org/event/three-elks-with-noodles-19/
LOCATION:Elks Lodge #1682\, 1217 Boulder City Parkway\, Boulder City\, NV\, 89005\, United States
CATEGORIES:Non-members Welcome when Accompanied by Member
ATTACH;FMTTYPE=image/jpeg:https://bouldercityelks1682.org/wp-content/uploads/2025-06-25-Spaghetti-Dinner.jpg
END:VEVENT
BEGIN:VEVENT
DTSTART;TZID=America/Los_Angeles:20250620T190000
DTEND;TZID=America/Los_Angeles:20250620T220000
DTSTAMP:20260423T155622
CREATED:20250530T155208Z
LAST-MODIFIED:20250530T155208Z
UID:10000330-1750446000-1750456800@bouldercityelks1682.org
SUMMARY:Karaoke with 'H'
DESCRIPTION:
URL:https://bouldercityelks1682.org/event/karaoke-with-h-31/
LOCATION:Elks Lodge #1682\, 1217 Boulder City Parkway\, Boulder City\, NV\, 89005\, United States
CATEGORIES:Non-members Welcome when Accompanied by Member
ATTACH;FMTTYPE=image/jpeg:https://bouldercityelks1682.org/wp-content/uploads/2025-06-20-Karaoke-with-H.jpg
END:VEVENT
BEGIN:VEVENT
DTSTART;TZID=America/Los_Angeles:20250615T130000
DTEND;TZID=America/Los_Angeles:20250615T220000
DTSTAMP:20260423T155622
CREATED:20250530T155028Z
LAST-MODIFIED:20250530T155028Z
UID:10000329-1749992400-1750024800@bouldercityelks1682.org
SUMMARY:Fathers' Day Celebration
DESCRIPTION:
URL:https://bouldercityelks1682.org/event/fathers-day-celebration/
LOCATION:Elks Lodge #1682\, 1217 Boulder City Parkway\, Boulder City\, NV\, 89005\, United States
CATEGORIES:Non-members Welcome when Accompanied by Member
ATTACH;FMTTYPE=image/jpeg:https://bouldercityelks1682.org/wp-content/uploads/2025-06-15-Fathers-Day-Celebration.jpg
END:VEVENT
BEGIN:VEVENT
DTSTART;TZID=America/Los_Angeles:20250614T140000
DTEND;TZID=America/Los_Angeles:20250614T160000
DTSTAMP:20260423T155622
CREATED:20250530T154854Z
LAST-MODIFIED:20250530T154854Z
UID:10000328-1749909600-1749916800@bouldercityelks1682.org
SUMMARY:Flag Day Ceremony
DESCRIPTION:
URL:https://bouldercityelks1682.org/event/flag-day-ceremony/
LOCATION:Elks Lodge #1682\, 1217 Boulder City Parkway\, Boulder City\, NV\, 89005\, United States
CATEGORIES:Non-members Welcome
ATTACH;FMTTYPE=image/jpeg:https://bouldercityelks1682.org/wp-content/uploads/2025-06-14-Flag-Day-Ceremony.jpg
END:VEVENT
BEGIN:VEVENT
DTSTART;TZID=America/Los_Angeles:20250606T190000
DTEND;TZID=America/Los_Angeles:20250606T220000
DTSTAMP:20260423T155622
CREATED:20250530T154720Z
LAST-MODIFIED:20250530T154720Z
UID:10000327-1749236400-1749247200@bouldercityelks1682.org
SUMMARY:Karaoke with Bill Montana
DESCRIPTION:
URL:https://bouldercityelks1682.org/event/karaoke-with-bill-montana-27/
LOCATION:Elks Lodge #1682\, 1217 Boulder City Parkway\, Boulder City\, NV\, 89005\, United States
CATEGORIES:Non-members Welcome when Accompanied by Member
ATTACH;FMTTYPE=image/jpeg:https://bouldercityelks1682.org/wp-content/uploads/2025-06-06-Karaoke-with-Bill-Montana.jpg
END:VEVENT
BEGIN:VEVENT
DTSTART;TZID=America/Los_Angeles:20250601T143000
DTEND;TZID=America/Los_Angeles:20250601T180000
DTSTAMP:20260423T155622
CREATED:20250530T154605Z
LAST-MODIFIED:20250530T154605Z
UID:10000326-1748788200-1748800800@bouldercityelks1682.org
SUMMARY:BINGO
DESCRIPTION:
URL:https://bouldercityelks1682.org/event/bingo-47/
LOCATION:Elks Lodge #1682\, 1217 Boulder City Parkway\, Boulder City\, NV\, 89005\, United States
CATEGORIES:Non-members Welcome
ATTACH;FMTTYPE=image/jpeg:https://bouldercityelks1682.org/wp-content/uploads/2025-06-01-BINGO.jpg
END:VEVENT
BEGIN:VEVENT
DTSTART;TZID=America/Los_Angeles:20250531T080000
DTEND;TZID=America/Los_Angeles:20250531T220000
DTSTAMP:20260423T155622
CREATED:20250502T135248Z
LAST-MODIFIED:20250502T135248Z
UID:10000325-1748678400-1748728800@bouldercityelks1682.org
SUMMARY:May 2025 Events
DESCRIPTION:
URL:https://bouldercityelks1682.org/event/may-2025-events/
LOCATION:Elks Lodge #1682\, 1217 Boulder City Parkway\, Boulder City\, NV\, 89005\, United States
CATEGORIES:Non-members Welcome when Accompanied by Member
ATTACH;FMTTYPE=image/jpeg:https://bouldercityelks1682.org/wp-content/uploads/2025-05-31-May-2025-Events.jpg
END:VEVENT
BEGIN:VEVENT
DTSTART;TZID=America/Los_Angeles:20250530T190000
DTEND;TZID=America/Los_Angeles:20250530T220000
DTSTAMP:20260423T155622
CREATED:20250502T135152Z
LAST-MODIFIED:20250502T135152Z
UID:10000324-1748631600-1748642400@bouldercityelks1682.org
SUMMARY:Stan Murphy - Back by Popular Demand
DESCRIPTION:
URL:https://bouldercityelks1682.org/event/stan-murphy-back-by-popular-demand/
LOCATION:Elks Lodge #1682\, 1217 Boulder City Parkway\, Boulder City\, NV\, 89005\, United States
CATEGORIES:Non-members Welcome when Accompanied by Member
ATTACH;FMTTYPE=image/jpeg:https://bouldercityelks1682.org/wp-content/uploads/2025-05-30-Stan-Murphy.jpg
END:VEVENT
BEGIN:VEVENT
DTSTART;TZID=America/Los_Angeles:20250528T180000
DTEND;TZID=America/Los_Angeles:20250528T190000
DTSTAMP:20260423T155622
CREATED:20250502T135032Z
LAST-MODIFIED:20250502T135032Z
UID:10000323-1748455200-1748458800@bouldercityelks1682.org
SUMMARY:Three Elks with Noodles
DESCRIPTION:
URL:https://bouldercityelks1682.org/event/three-elks-with-noodles-18/
LOCATION:Elks Lodge #1682\, 1217 Boulder City Parkway\, Boulder City\, NV\, 89005\, United States
CATEGORIES:Non-members Welcome when Accompanied by Member
ATTACH;FMTTYPE=image/jpeg:https://bouldercityelks1682.org/wp-content/uploads/2025-05-28-Three-Elks-with-Noodles.jpg
END:VEVENT
BEGIN:VEVENT
DTSTART;TZID=America/Los_Angeles:20250526T140000
DTEND;TZID=America/Los_Angeles:20250526T160000
DTSTAMP:20260423T155622
CREATED:20250502T134826Z
LAST-MODIFIED:20250502T134826Z
UID:10000321-1748268000-1748275200@bouldercityelks1682.org
SUMMARY:Memorial Day Burgers & Hot Dogs
DESCRIPTION:
URL:https://bouldercityelks1682.org/event/memorial-day-burgers-hot-dogs/
LOCATION:Elks Lodge #1682\, 1217 Boulder City Parkway\, Boulder City\, NV\, 89005\, United States
CATEGORIES:Non-members Welcome when Accompanied by Member
ATTACH;FMTTYPE=image/jpeg:https://bouldercityelks1682.org/wp-content/uploads/2025-05-26-Memorial-Day-Burgers-Hot-Dogs.jpg
END:VEVENT
BEGIN:VEVENT
DTSTART;TZID=America/Los_Angeles:20250523T180000
DTEND;TZID=America/Los_Angeles:20250523T220000
DTSTAMP:20260423T155622
CREATED:20250502T134701Z
LAST-MODIFIED:20250502T134701Z
UID:10000320-1748023200-1748037600@bouldercityelks1682.org
SUMMARY:Country Dance
DESCRIPTION:
URL:https://bouldercityelks1682.org/event/country-dance/
LOCATION:Elks Lodge #1682\, 1217 Boulder City Parkway\, Boulder City\, NV\, 89005\, United States
CATEGORIES:Non-members Welcome when Accompanied by Member
ATTACH;FMTTYPE=image/jpeg:https://bouldercityelks1682.org/wp-content/uploads/2025-05-23-Country-Dance.jpg
END:VEVENT
BEGIN:VEVENT
DTSTART;TZID=America/Los_Angeles:20250518T143000
DTEND;TZID=America/Los_Angeles:20250518T180000
DTSTAMP:20260423T155622
CREATED:20250502T134922Z
LAST-MODIFIED:20250502T134922Z
UID:10000322-1747578600-1747591200@bouldercityelks1682.org
SUMMARY:BINGO
DESCRIPTION:
URL:https://bouldercityelks1682.org/event/bingo-46/
LOCATION:Elks Lodge #1682\, 1217 Boulder City Parkway\, Boulder City\, NV\, 89005\, United States
CATEGORIES:Non-members Welcome
ATTACH;FMTTYPE=image/jpeg:https://bouldercityelks1682.org/wp-content/uploads/2025-05-18-BINGO.jpg
END:VEVENT
BEGIN:VEVENT
DTSTART;TZID=America/Los_Angeles:20250516T190000
DTEND;TZID=America/Los_Angeles:20250516T220000
DTSTAMP:20260423T155622
CREATED:20250502T134543Z
LAST-MODIFIED:20250502T134602Z
UID:10000319-1747422000-1747432800@bouldercityelks1682.org
SUMMARY:Karaoke with Bill Montana
DESCRIPTION:
URL:https://bouldercityelks1682.org/event/karaoke-with-bill-montana-26/
LOCATION:Elks Lodge #1682\, 1217 Boulder City Parkway\, Boulder City\, NV\, 89005\, United States
CATEGORIES:Non-members Welcome when Accompanied by Member
ATTACH;FMTTYPE=image/jpeg:https://bouldercityelks1682.org/wp-content/uploads/2025-05-16-Karaoke-with-Bill-Montana.jpg
END:VEVENT
BEGIN:VEVENT
DTSTART;TZID=America/Los_Angeles:20250511T110000
DTEND;TZID=America/Los_Angeles:20250511T130000
DTSTAMP:20260423T155622
CREATED:20250329T141925Z
LAST-MODIFIED:20250329T141925Z
UID:10000312-1746961200-1746968400@bouldercityelks1682.org
SUMMARY:Mother's Day Champagne Brunch
DESCRIPTION:
URL:https://bouldercityelks1682.org/event/mothers-day-champagne-brunch/
LOCATION:Elks Lodge #1682\, 1217 Boulder City Parkway\, Boulder City\, NV\, 89005\, United States
CATEGORIES:Non-members Welcome when Accompanied by Member
ATTACH;FMTTYPE=image/jpeg:https://bouldercityelks1682.org/wp-content/uploads/2025-05-11-Mothers-Day-Champagne-Brunch.jpg
END:VEVENT
BEGIN:VEVENT
DTSTART;TZID=America/Los_Angeles:20250509T190000
DTEND;TZID=America/Los_Angeles:20250509T210000
DTSTAMP:20260423T155622
CREATED:20250502T134435Z
LAST-MODIFIED:20250502T134435Z
UID:10000318-1746817200-1746824400@bouldercityelks1682.org
SUMMARY:Trivia Night
DESCRIPTION:
URL:https://bouldercityelks1682.org/event/trivia-night-3/
LOCATION:Elks Lodge #1682\, 1217 Boulder City Parkway\, Boulder City\, NV\, 89005\, United States
CATEGORIES:Non-members Welcome when Accompanied by Member
ATTACH;FMTTYPE=image/jpeg:https://bouldercityelks1682.org/wp-content/uploads/2025-05-09-Trivia-Night.jpg
END:VEVENT
BEGIN:VEVENT
DTSTART;TZID=America/Los_Angeles:20250509T170000
DTEND;TZID=America/Los_Angeles:20250509T190000
DTSTAMP:20260423T155622
CREATED:20250502T134327Z
LAST-MODIFIED:20250502T134327Z
UID:10000317-1746810000-1746817200@bouldercityelks1682.org
SUMMARY:DeRosa's Pizza
DESCRIPTION:
URL:https://bouldercityelks1682.org/event/derosas-pizza-7/
LOCATION:Elks Lodge #1682\, 1217 Boulder City Parkway\, Boulder City\, NV\, 89005\, United States
CATEGORIES:Non-members Welcome when Accompanied by Member
ATTACH;FMTTYPE=image/jpeg:https://bouldercityelks1682.org/wp-content/uploads/2025-05-09-Pizza.jpg
END:VEVENT
BEGIN:VEVENT
DTSTART;TZID=America/Los_Angeles:20250504T143000
DTEND;TZID=America/Los_Angeles:20250504T180000
DTSTAMP:20260423T155622
CREATED:20250502T134210Z
LAST-MODIFIED:20250502T134210Z
UID:10000316-1746369000-1746381600@bouldercityelks1682.org
SUMMARY:BINGO
DESCRIPTION:
URL:https://bouldercityelks1682.org/event/bingo-45/
LOCATION:Elks Lodge #1682\, 1217 Boulder City Parkway\, Boulder City\, NV\, 89005\, United States
CATEGORIES:Non-members Welcome
ATTACH;FMTTYPE=image/jpeg:https://bouldercityelks1682.org/wp-content/uploads/2025-05-04-BINGO.jpg
END:VEVENT
BEGIN:VEVENT
DTSTART;TZID=America/Los_Angeles:20250502T190000
DTEND;TZID=America/Los_Angeles:20250502T220000
DTSTAMP:20260423T155622
CREATED:20250502T134117Z
LAST-MODIFIED:20250502T134117Z
UID:10000315-1746212400-1746223200@bouldercityelks1682.org
SUMMARY:Karaoke with 'H'
DESCRIPTION:
URL:https://bouldercityelks1682.org/event/karaoke-with-h-30/
LOCATION:Elks Lodge #1682\, 1217 Boulder City Parkway\, Boulder City\, NV\, 89005\, United States
CATEGORIES:Non-members Welcome when Accompanied by Member
ATTACH;FMTTYPE=image/jpeg:https://bouldercityelks1682.org/wp-content/uploads/2025-05-02-Karaoke-with-H.jpg
END:VEVENT
BEGIN:VEVENT
DTSTART;TZID=America/Los_Angeles:20250501T080000
DTEND;TZID=America/Los_Angeles:20250501T190000
DTSTAMP:20260423T155622
CREATED:20250418T144653Z
LAST-MODIFIED:20250418T144653Z
UID:10000314-1746086400-1746126000@bouldercityelks1682.org
SUMMARY:ENF Fundraiser
DESCRIPTION:
URL:https://bouldercityelks1682.org/event/enf-fundraiser/
LOCATION:Elks Lodge #1682\, 1217 Boulder City Parkway\, Boulder City\, NV\, 89005\, United States
CATEGORIES:Members Only
ATTACH;FMTTYPE=image/jpeg:https://bouldercityelks1682.org/wp-content/uploads/2025-05-01-ENF-Fundraiser.jpg
END:VEVENT
BEGIN:VEVENT
DTSTART;TZID=America/Los_Angeles:20250430T080000
DTEND;TZID=America/Los_Angeles:20250430T220000
DTSTAMP:20260423T155622
CREATED:20250329T141758Z
LAST-MODIFIED:20250329T141758Z
UID:10000311-1746000000-1746050400@bouldercityelks1682.org
SUMMARY:April 2025 Events
DESCRIPTION:
URL:https://bouldercityelks1682.org/event/april-2025-events/
LOCATION:Elks Lodge #1682\, 1217 Boulder City Parkway\, Boulder City\, NV\, 89005\, United States
CATEGORIES:Non-members Welcome when Accompanied by Member
ATTACH;FMTTYPE=image/jpeg:https://bouldercityelks1682.org/wp-content/uploads/2025-04-30-April-2025-Events.jpg
END:VEVENT
BEGIN:VEVENT
DTSTART;TZID=America/Los_Angeles:20250425T180000
DTEND;TZID=America/Los_Angeles:20250425T220000
DTSTAMP:20260423T155622
CREATED:20250329T141655Z
LAST-MODIFIED:20250418T143933Z
UID:10000310-1745604000-1745618400@bouldercityelks1682.org
SUMMARY:Two-Step Lessons and Western Dance
DESCRIPTION:
URL:https://bouldercityelks1682.org/event/two-step-lessons-and-western-dance/
LOCATION:Elks Lodge #1682\, 1217 Boulder City Parkway\, Boulder City\, NV\, 89005\, United States
CATEGORIES:Non-members Welcome when Accompanied by Member
ATTACH;FMTTYPE=image/jpeg:https://bouldercityelks1682.org/wp-content/uploads/2025-04-25-Western-Dance-1.jpg
END:VEVENT
BEGIN:VEVENT
DTSTART;TZID=America/Los_Angeles:20250423T180000
DTEND;TZID=America/Los_Angeles:20250423T190000
DTSTAMP:20260423T155622
CREATED:20250329T141455Z
LAST-MODIFIED:20250329T141455Z
UID:10000309-1745431200-1745434800@bouldercityelks1682.org
SUMMARY:Three Elks with Noodles
DESCRIPTION:
URL:https://bouldercityelks1682.org/event/three-elks-with-noodles-17/
LOCATION:Elks Lodge #1682\, 1217 Boulder City Parkway\, Boulder City\, NV\, 89005\, United States
CATEGORIES:Non-members Welcome when Accompanied by Member
ATTACH;FMTTYPE=image/jpeg:https://bouldercityelks1682.org/wp-content/uploads/2025-04-23-Three-Elks-with-Noodles.jpg
END:VEVENT
END:VCALENDAR