BEGIN:VCALENDAR
VERSION:2.0
PRODID:-//B.P.O. Elks Lodge #1682 - ECPv6.15.20//NONSGML v1.0//EN
CALSCALE:GREGORIAN
METHOD:PUBLISH
X-ORIGINAL-URL:https://bouldercityelks1682.org
X-WR-CALDESC:Events for B.P.O. Elks Lodge #1682
REFRESH-INTERVAL;VALUE=DURATION:PT1H
X-Robots-Tag:noindex
X-PUBLISHED-TTL:PT1H
BEGIN:VTIMEZONE
TZID:America/Los_Angeles
BEGIN:DAYLIGHT
TZOFFSETFROM:-0800
TZOFFSETTO:-0700
TZNAME:PDT
DTSTART:20240310T100000
END:DAYLIGHT
BEGIN:STANDARD
TZOFFSETFROM:-0700
TZOFFSETTO:-0800
TZNAME:PST
DTSTART:20241103T090000
END:STANDARD
BEGIN:DAYLIGHT
TZOFFSETFROM:-0800
TZOFFSETTO:-0700
TZNAME:PDT
DTSTART:20250309T100000
END:DAYLIGHT
BEGIN:STANDARD
TZOFFSETFROM:-0700
TZOFFSETTO:-0800
TZNAME:PST
DTSTART:20251102T090000
END:STANDARD
BEGIN:DAYLIGHT
TZOFFSETFROM:-0800
TZOFFSETTO:-0700
TZNAME:PDT
DTSTART:20260308T100000
END:DAYLIGHT
BEGIN:STANDARD
TZOFFSETFROM:-0700
TZOFFSETTO:-0800
TZNAME:PST
DTSTART:20261101T090000
END:STANDARD
END:VTIMEZONE
BEGIN:VEVENT
DTSTART;TZID=America/Los_Angeles:20251031T190000
DTEND;TZID=America/Los_Angeles:20251031T220000
DTSTAMP:20260423T123940
CREATED:20250930T112019Z
LAST-MODIFIED:20250930T112326Z
UID:10000391-1761937200-1761948000@bouldercityelks1682.org
SUMMARY:Karaoke with 'H'
DESCRIPTION:
URL:https://bouldercityelks1682.org/event/karaoke-with-h-34/
LOCATION:Elks Lodge #1682\, 1217 Boulder City Parkway\, Boulder City\, NV\, 89005\, United States
CATEGORIES:Non-members Welcome when Accompanied by Member
ATTACH;FMTTYPE=image/jpeg:https://bouldercityelks1682.org/wp-content/uploads/2025-10-31-Karaoke-with-H.jpg
END:VEVENT
BEGIN:VEVENT
DTSTART;TZID=America/Los_Angeles:20251024T190000
DTEND;TZID=America/Los_Angeles:20251024T230000
DTSTAMP:20260423T123940
CREATED:20250930T111436Z
LAST-MODIFIED:20250930T111436Z
UID:10000388-1761332400-1761346800@bouldercityelks1682.org
SUMMARY:Spooky Halloween Potluck
DESCRIPTION:
URL:https://bouldercityelks1682.org/event/spooky-halloween-potluck/
LOCATION:Elks Lodge #1682\, 1217 Boulder City Parkway\, Boulder City\, NV\, 89005\, United States
CATEGORIES:Non-members Welcome when Accompanied by Member
ATTACH;FMTTYPE=image/jpeg:https://bouldercityelks1682.org/wp-content/uploads/2025-10-24-Spooky-Halloween-Potluck.jpg
END:VEVENT
BEGIN:VEVENT
DTSTART;TZID=America/Los_Angeles:20251023T190000
DTEND;TZID=America/Los_Angeles:20251023T190000
DTSTAMP:20260423T123940
CREATED:20250923T000846Z
LAST-MODIFIED:20250923T001200Z
UID:10000381-1761246000-1761246000@bouldercityelks1682.org
SUMMARY:ENF Fundraiser
DESCRIPTION:
URL:https://bouldercityelks1682.org/event/enf-fundraiser-2/
LOCATION:Elks Lodge #1682\, 1217 Boulder City Parkway\, Boulder City\, NV\, 89005\, United States
ATTACH;FMTTYPE=image/jpeg:https://bouldercityelks1682.org/wp-content/uploads/2025-10-23-ENF-Fundraiser.jpg
END:VEVENT
BEGIN:VEVENT
DTSTART;TZID=America/Los_Angeles:20251023T170000
DTEND;TZID=America/Los_Angeles:20251023T190000
DTSTAMP:20260423T123940
CREATED:20251006T205258Z
LAST-MODIFIED:20251006T205258Z
UID:10000395-1761238800-1761246000@bouldercityelks1682.org
SUMMARY:Tacos are Back!
DESCRIPTION:
URL:https://bouldercityelks1682.org/event/tacos-are-back-2/
LOCATION:Elks Lodge #1682\, 1217 Boulder City Parkway\, Boulder City\, NV\, 89005\, United States
CATEGORIES:Non-members Welcome when Accompanied by Member
ATTACH;FMTTYPE=image/jpeg:https://bouldercityelks1682.org/wp-content/uploads/2025-10-23-Tacos-are-back.jpg
END:VEVENT
BEGIN:VEVENT
DTSTART;TZID=America/Los_Angeles:20251022T180000
DTEND;TZID=America/Los_Angeles:20251022T190000
DTSTAMP:20260423T123940
CREATED:20250930T111247Z
LAST-MODIFIED:20250930T111247Z
UID:10000387-1761156000-1761159600@bouldercityelks1682.org
SUMMARY:Three Elks with Noodles
DESCRIPTION:
URL:https://bouldercityelks1682.org/event/three-elks-with-noodles-22/
LOCATION:Elks Lodge #1682\, 1217 Boulder City Parkway\, Boulder City\, NV\, 89005\, United States
CATEGORIES:Non-members Welcome when Accompanied by Member
ATTACH;FMTTYPE=image/jpeg:https://bouldercityelks1682.org/wp-content/uploads/2025-10-22-Three-Elks-with-Noodles.jpg
END:VEVENT
BEGIN:VEVENT
DTSTART;TZID=America/Los_Angeles:20251019T143000
DTEND;TZID=America/Los_Angeles:20251019T180000
DTSTAMP:20260423T123940
CREATED:20250929T230806Z
LAST-MODIFIED:20250929T230806Z
UID:10000386-1760884200-1760896800@bouldercityelks1682.org
SUMMARY:BINGO
DESCRIPTION:
URL:https://bouldercityelks1682.org/event/bingo-53/
LOCATION:Elks Lodge #1682\, 1217 Boulder City Parkway\, Boulder City\, NV\, 89005\, United States
CATEGORIES:Non-members Welcome
ATTACH;FMTTYPE=image/jpeg:https://bouldercityelks1682.org/wp-content/uploads/2025-10-19-BINGO.jpg
END:VEVENT
BEGIN:VEVENT
DTSTART;TZID=America/Los_Angeles:20251017T190000
DTEND;TZID=America/Los_Angeles:20251017T220000
DTSTAMP:20260423T123940
CREATED:20250929T230612Z
LAST-MODIFIED:20250929T230612Z
UID:10000385-1760727600-1760738400@bouldercityelks1682.org
SUMMARY:Karaoke with Kathy Wolfe
DESCRIPTION:
URL:https://bouldercityelks1682.org/event/karaoke-with-kathy-wolfe-3/
LOCATION:Elks Lodge #1682\, 1217 Boulder City Parkway\, Boulder City\, NV\, 89005\, United States
CATEGORIES:Non-members Welcome when Accompanied by Member
ATTACH;FMTTYPE=image/jpeg:https://bouldercityelks1682.org/wp-content/uploads/2025-10-17-Karaoke-with-Kathy-Wolfe.jpg
END:VEVENT
BEGIN:VEVENT
DTSTART;TZID=America/Los_Angeles:20251012T110000
DTEND;TZID=America/Los_Angeles:20251012T130000
DTSTAMP:20260423T123940
CREATED:20251006T205140Z
LAST-MODIFIED:20251006T205140Z
UID:10000394-1760266800-1760274000@bouldercityelks1682.org
SUMMARY:Chuck & Mack's Sunday Brunch
DESCRIPTION:
URL:https://bouldercityelks1682.org/event/chuck-macks-sunday-brunch/
LOCATION:Elks Lodge #1682\, 1217 Boulder City Parkway\, Boulder City\, NV\, 89005\, United States
CATEGORIES:Non-members Welcome when Accompanied by Member
ATTACH;FMTTYPE=image/jpeg:https://bouldercityelks1682.org/wp-content/uploads/2025-10-12-Chuck-Macks-Brunch.jpg
END:VEVENT
BEGIN:VEVENT
DTSTART;TZID=America/Los_Angeles:20251010T183000
DTEND;TZID=America/Los_Angeles:20251010T200000
DTSTAMP:20260423T123940
CREATED:20250929T230414Z
LAST-MODIFIED:20250929T230414Z
UID:10000384-1760121000-1760126400@bouldercityelks1682.org
SUMMARY:October Trivia
DESCRIPTION:
URL:https://bouldercityelks1682.org/event/october-trivia/
LOCATION:Elks Lodge #1682\, 1217 Boulder City Parkway\, Boulder City\, NV\, 89005\, United States
CATEGORIES:Non-members Welcome when Accompanied by Member
ATTACH;FMTTYPE=image/jpeg:https://bouldercityelks1682.org/wp-content/uploads/2025-10-10-October-Trivia.jpg
END:VEVENT
BEGIN:VEVENT
DTSTART;TZID=America/Los_Angeles:20251010T170000
DTEND;TZID=America/Los_Angeles:20251010T183000
DTSTAMP:20260423T123940
CREATED:20250929T230124Z
LAST-MODIFIED:20250929T230124Z
UID:10000383-1760115600-1760121000@bouldercityelks1682.org
SUMMARY:DeRosa's Pizza
DESCRIPTION:
URL:https://bouldercityelks1682.org/event/derosas-pizza-10/
LOCATION:Elks Lodge #1682\, 1217 Boulder City Parkway\, Boulder City\, NV\, 89005\, United States
CATEGORIES:Non-members Welcome when Accompanied by Member
ATTACH;FMTTYPE=image/jpeg:https://bouldercityelks1682.org/wp-content/uploads/2025-10-10-DeRosas-Pizza.jpg
END:VEVENT
BEGIN:VEVENT
DTSTART;TZID=America/Los_Angeles:20251005T143000
DTEND;TZID=America/Los_Angeles:20251005T180000
DTSTAMP:20260423T123940
CREATED:20250929T225809Z
LAST-MODIFIED:20250929T225809Z
UID:10000382-1759674600-1759687200@bouldercityelks1682.org
SUMMARY:BINGO
DESCRIPTION:
URL:https://bouldercityelks1682.org/event/bingo-52/
LOCATION:Elks Lodge #1682\, 1217 Boulder City Parkway\, Boulder City\, NV\, 89005\, United States
CATEGORIES:Non-members Welcome
ATTACH;FMTTYPE=image/jpeg:https://bouldercityelks1682.org/wp-content/uploads/2025-10-05-BINGO.jpg
END:VEVENT
BEGIN:VEVENT
DTSTART;TZID=America/Los_Angeles:20251004T180000
DTEND;TZID=America/Los_Angeles:20251004T220000
DTSTAMP:20260423T123940
CREATED:20251002T132230Z
LAST-MODIFIED:20251002T132230Z
UID:10000393-1759600800-1759615200@bouldercityelks1682.org
SUMMARY:Avenue B
DESCRIPTION:
URL:https://bouldercityelks1682.org/event/avenue-b/
LOCATION:Elks Lodge #1682\, 1217 Boulder City Parkway\, Boulder City\, NV\, 89005\, United States
CATEGORIES:Non-members Welcome when Accompanied by Member
ATTACH;FMTTYPE=image/jpeg:https://bouldercityelks1682.org/wp-content/uploads/2025-10-04-Avenue-B.jpg
END:VEVENT
BEGIN:VEVENT
DTSTART;TZID=America/Los_Angeles:20251003T080000
DTEND;TZID=America/Los_Angeles:20251003T170000
DTSTAMP:20260423T123940
CREATED:20250629T170755Z
LAST-MODIFIED:20250728T164532Z
UID:10000353-1759478400-1759510800@bouldercityelks1682.org
SUMMARY:Talent Show & State President's Dinner
DESCRIPTION:
URL:https://bouldercityelks1682.org/event/talent-show-state-presidents-dinner/
LOCATION:Elks Lodge #1682\, 1217 Boulder City Parkway\, Boulder City\, NV\, 89005\, United States
CATEGORIES:Non-members Welcome when Accompanied by Member
ATTACH;FMTTYPE=image/jpeg:https://bouldercityelks1682.org/wp-content/uploads/2025-10-03-Talent-Show.jpg
END:VEVENT
BEGIN:VEVENT
DTSTART;TZID=America/Los_Angeles:20250930T080000
DTEND;TZID=America/Los_Angeles:20250930T170000
DTSTAMP:20260423T123940
CREATED:20250904T182503Z
LAST-MODIFIED:20250904T182503Z
UID:10000380-1759219200-1759251600@bouldercityelks1682.org
SUMMARY:September 2025 Events
DESCRIPTION:
URL:https://bouldercityelks1682.org/event/september-2025-events/
LOCATION:Elks Lodge #1682\, 1217 Boulder City Parkway\, Boulder City\, NV\, 89005\, United States
CATEGORIES:Non-members Welcome when Accompanied by Member
ATTACH;FMTTYPE=image/jpeg:https://bouldercityelks1682.org/wp-content/uploads/2025-09-30-September-2025-Events.jpg
END:VEVENT
BEGIN:VEVENT
DTSTART;TZID=America/Los_Angeles:20250926T190000
DTEND;TZID=America/Los_Angeles:20250926T220000
DTSTAMP:20260423T123940
CREATED:20250904T182405Z
LAST-MODIFIED:20250904T182405Z
UID:10000379-1758913200-1758924000@bouldercityelks1682.org
SUMMARY:Karaoke with DJ Bob
DESCRIPTION:
URL:https://bouldercityelks1682.org/event/karaoke-with-dj-bob-3/
LOCATION:Elks Lodge #1682\, 1217 Boulder City Parkway\, Boulder City\, NV\, 89005\, United States
CATEGORIES:Non-members Welcome when Accompanied by Member
ATTACH;FMTTYPE=image/jpeg:https://bouldercityelks1682.org/wp-content/uploads/2025-09-26-Karaoke-with-DJ-Bob.jpg
END:VEVENT
BEGIN:VEVENT
DTSTART;TZID=America/Los_Angeles:20250924T180000
DTEND;TZID=America/Los_Angeles:20250924T190000
DTSTAMP:20260423T123940
CREATED:20250904T182313Z
LAST-MODIFIED:20250904T182313Z
UID:10000378-1758736800-1758740400@bouldercityelks1682.org
SUMMARY:Three Elks with Noodles
DESCRIPTION:
URL:https://bouldercityelks1682.org/event/three-elks-with-noodles-21/
LOCATION:Elks Lodge #1682\, 1217 Boulder City Parkway\, Boulder City\, NV\, 89005\, United States
CATEGORIES:Non-members Welcome when Accompanied by Member
ATTACH;FMTTYPE=image/jpeg:https://bouldercityelks1682.org/wp-content/uploads/2025-09-24-Three-Elks-with-Noodles.jpg
END:VEVENT
BEGIN:VEVENT
DTSTART;TZID=America/Los_Angeles:20250923T120000
DTEND;TZID=America/Los_Angeles:20250923T170000
DTSTAMP:20260423T123940
CREATED:20250904T182130Z
LAST-MODIFIED:20250905T134057Z
UID:10000377-1758628800-1758646800@bouldercityelks1682.org
SUMMARY:Life Line Screening
DESCRIPTION:
URL:https://bouldercityelks1682.org/event/life-line-screening-2/
LOCATION:Elks Lodge #1682\, 1217 Boulder City Parkway\, Boulder City\, NV\, 89005\, United States
CATEGORIES:Non-members Welcome when Accompanied by Member
ATTACH;FMTTYPE=image/jpeg:https://bouldercityelks1682.org/wp-content/uploads/2025-09-23-Life-Line-Screening.jpg
END:VEVENT
BEGIN:VEVENT
DTSTART;TZID=America/Los_Angeles:20250921T143000
DTEND;TZID=America/Los_Angeles:20250921T180000
DTSTAMP:20260423T123940
CREATED:20250904T181445Z
LAST-MODIFIED:20250904T181445Z
UID:10000375-1758465000-1758477600@bouldercityelks1682.org
SUMMARY:BINGO
DESCRIPTION:
URL:https://bouldercityelks1682.org/event/bingo-51/
LOCATION:Elks Lodge #1682\, 1217 Boulder City Parkway\, Boulder City\, NV\, 89005\, United States
CATEGORIES:Non-members Welcome
ATTACH;FMTTYPE=image/jpeg:https://bouldercityelks1682.org/wp-content/uploads/2025-09-21-BINGO.jpg
END:VEVENT
BEGIN:VEVENT
DTSTART;TZID=America/Los_Angeles:20250920T180000
DTEND;TZID=America/Los_Angeles:20250920T220000
DTSTAMP:20260423T123940
CREATED:20250904T181351Z
LAST-MODIFIED:20250904T181351Z
UID:10000374-1758391200-1758405600@bouldercityelks1682.org
SUMMARY:Sanford & Sons
DESCRIPTION:
URL:https://bouldercityelks1682.org/event/sanford-sons/
LOCATION:Elks Lodge #1682\, 1217 Boulder City Parkway\, Boulder City\, NV\, 89005\, United States
CATEGORIES:Non-members Welcome when Accompanied by Member
ATTACH;FMTTYPE=image/jpeg:https://bouldercityelks1682.org/wp-content/uploads/2025-09-20-Sanford-Sons.jpg
END:VEVENT
BEGIN:VEVENT
DTSTART;TZID=America/Los_Angeles:20250919T190000
DTEND;TZID=America/Los_Angeles:20250919T220000
DTSTAMP:20260423T123940
CREATED:20250904T181243Z
LAST-MODIFIED:20250904T181243Z
UID:10000373-1758308400-1758319200@bouldercityelks1682.org
SUMMARY:Karaoke with Kathy Wolfe
DESCRIPTION:
URL:https://bouldercityelks1682.org/event/karaoke-with-kathy-wolfe-2/
LOCATION:Elks Lodge #1682\, 1217 Boulder City Parkway\, Boulder City\, NV\, 89005\, United States
CATEGORIES:Non-members Welcome when Accompanied by Member
ATTACH;FMTTYPE=image/jpeg:https://bouldercityelks1682.org/wp-content/uploads/2025-09-19-Karaoke-with-Kathy-Wolfe.jpg
END:VEVENT
BEGIN:VEVENT
DTSTART;TZID=America/Los_Angeles:20250912T183000
DTEND;TZID=America/Los_Angeles:20250912T200000
DTSTAMP:20260423T123940
CREATED:20250904T180954Z
LAST-MODIFIED:20250904T180954Z
UID:10000371-1757701800-1757707200@bouldercityelks1682.org
SUMMARY:September Trivia
DESCRIPTION:
URL:https://bouldercityelks1682.org/event/september-trivia/
LOCATION:Elks Lodge #1682\, 1217 Boulder City Parkway\, Boulder City\, NV\, 89005\, United States
CATEGORIES:Non-members Welcome when Accompanied by Member
ATTACH;FMTTYPE=image/jpeg:https://bouldercityelks1682.org/wp-content/uploads/2025-09-12-September-Trivia.jpg
END:VEVENT
BEGIN:VEVENT
DTSTART;TZID=America/Los_Angeles:20250912T170000
DTEND;TZID=America/Los_Angeles:20250912T183000
DTSTAMP:20260423T123940
CREATED:20250904T180845Z
LAST-MODIFIED:20250904T180845Z
UID:10000370-1757696400-1757701800@bouldercityelks1682.org
SUMMARY:DeRosa's Pizza
DESCRIPTION:
URL:https://bouldercityelks1682.org/event/derosas-pizza-9/
LOCATION:Elks Lodge #1682\, 1217 Boulder City Parkway\, Boulder City\, NV\, 89005\, United States
CATEGORIES:Non-members Welcome when Accompanied by Member
ATTACH;FMTTYPE=image/jpeg:https://bouldercityelks1682.org/wp-content/uploads/2025-09-12-DeRosas-Pizza.jpg
END:VEVENT
BEGIN:VEVENT
DTSTART;TZID=America/Los_Angeles:20250907T143000
DTEND;TZID=America/Los_Angeles:20250907T180000
DTSTAMP:20260423T123940
CREATED:20250904T180732Z
LAST-MODIFIED:20250904T180732Z
UID:10000369-1757255400-1757268000@bouldercityelks1682.org
SUMMARY:BINGO
DESCRIPTION:
URL:https://bouldercityelks1682.org/event/bingo-50/
LOCATION:Elks Lodge #1682\, 1217 Boulder City Parkway\, Boulder City\, NV\, 89005\, United States
CATEGORIES:Non-members Welcome
ATTACH;FMTTYPE=image/jpeg:https://bouldercityelks1682.org/wp-content/uploads/2025-09-07-BINGO.jpg
END:VEVENT
BEGIN:VEVENT
DTSTART;TZID=America/Los_Angeles:20250905T190000
DTEND;TZID=America/Los_Angeles:20250905T220000
DTSTAMP:20260423T123940
CREATED:20250904T180637Z
LAST-MODIFIED:20250904T180637Z
UID:10000368-1757098800-1757109600@bouldercityelks1682.org
SUMMARY:Karaoke with 'H'
DESCRIPTION:
URL:https://bouldercityelks1682.org/event/karaoke-with-h-33/
LOCATION:Elks Lodge #1682\, 1217 Boulder City Parkway\, Boulder City\, NV\, 89005\, United States
CATEGORIES:Non-members Welcome when Accompanied by Member
ATTACH;FMTTYPE=image/jpeg:https://bouldercityelks1682.org/wp-content/uploads/2025-09-05-Karaoke-with-H.jpg
END:VEVENT
BEGIN:VEVENT
DTSTART;TZID=America/Los_Angeles:20250901T160000
DTEND;TZID=America/Los_Angeles:20250901T180000
DTSTAMP:20260423T123940
CREATED:20250728T171105Z
LAST-MODIFIED:20250728T171111Z
UID:10000365-1756742400-1756749600@bouldercityelks1682.org
SUMMARY:Labor Day Burgers-Dogs-Chips
DESCRIPTION:
URL:https://bouldercityelks1682.org/event/labor-day-burgers-dogs-chips/
LOCATION:Elks Lodge #1682\, 1217 Boulder City Parkway\, Boulder City\, NV\, 89005\, United States
ATTACH;FMTTYPE=image/jpeg:https://bouldercityelks1682.org/wp-content/uploads/2025-09-01-Labor-Day-Burgers-Dogs-Chips.jpg
END:VEVENT
BEGIN:VEVENT
DTSTART;TZID=America/Los_Angeles:20250831T080000
DTEND;TZID=America/Los_Angeles:20250831T220000
DTSTAMP:20260423T123940
CREATED:20250728T170752Z
LAST-MODIFIED:20250728T232530Z
UID:10000364-1756627200-1756677600@bouldercityelks1682.org
SUMMARY:August 2025 Events
DESCRIPTION:
URL:https://bouldercityelks1682.org/event/august-2025-events/
LOCATION:Elks Lodge #1682\, 1217 Boulder City Parkway\, Boulder City\, NV\, 89005\, United States
CATEGORIES:Non-members Welcome when Accompanied by Member
ATTACH;FMTTYPE=image/jpeg:https://bouldercityelks1682.org/wp-content/uploads/2025-08-31-August-2025-Events.jpg
END:VEVENT
BEGIN:VEVENT
DTSTART;TZID=America/Los_Angeles:20250829T190000
DTEND;TZID=America/Los_Angeles:20250829T220000
DTSTAMP:20260423T123941
CREATED:20250728T170645Z
LAST-MODIFIED:20250728T170645Z
UID:10000363-1756494000-1756504800@bouldercityelks1682.org
SUMMARY:Stan's Back
DESCRIPTION:
URL:https://bouldercityelks1682.org/event/stans-back/
LOCATION:Elks Lodge #1682\, 1217 Boulder City Parkway\, Boulder City\, NV\, 89005\, United States
CATEGORIES:Non-members Welcome when Accompanied by Member
ATTACH;FMTTYPE=image/jpeg:https://bouldercityelks1682.org/wp-content/uploads/2025-08-29-Stans-Back.jpg
END:VEVENT
BEGIN:VEVENT
DTSTART;TZID=America/Los_Angeles:20250827T180000
DTEND;TZID=America/Los_Angeles:20250827T190000
DTSTAMP:20260423T123941
CREATED:20250728T170514Z
LAST-MODIFIED:20250728T171205Z
UID:10000362-1756317600-1756321200@bouldercityelks1682.org
SUMMARY:Three Elks with Noodles
DESCRIPTION:
URL:https://bouldercityelks1682.org/event/three-elks-with-noodles-20/
LOCATION:Elks Lodge #1682\, 1217 Boulder City Parkway\, Boulder City\, NV\, 89005\, United States
CATEGORIES:Non-members Welcome when Accompanied by Member
ATTACH;FMTTYPE=image/jpeg:https://bouldercityelks1682.org/wp-content/uploads/2025-08-27-Three-Elks-with-Noodles.jpg
END:VEVENT
BEGIN:VEVENT
DTSTART;TZID=America/Los_Angeles:20250824T090000
DTEND;TZID=America/Los_Angeles:20250824T123000
DTSTAMP:20260423T123941
CREATED:20250728T170400Z
LAST-MODIFIED:20250728T170400Z
UID:10000361-1756026000-1756038600@bouldercityelks1682.org
SUMMARY:Blood Drive
DESCRIPTION:
URL:https://bouldercityelks1682.org/event/blood-drive-3/
LOCATION:Elks Lodge #1682\, 1217 Boulder City Parkway\, Boulder City\, NV\, 89005\, United States
CATEGORIES:Non-members Welcome
ATTACH;FMTTYPE=image/jpeg:https://bouldercityelks1682.org/wp-content/uploads/2025-08-24-Blood-Drive.jpg
END:VEVENT
BEGIN:VEVENT
DTSTART;TZID=America/Los_Angeles:20250822T180000
DTEND;TZID=America/Los_Angeles:20250822T220000
DTSTAMP:20260423T123941
CREATED:20250728T170241Z
LAST-MODIFIED:20250728T170241Z
UID:10000360-1755885600-1755900000@bouldercityelks1682.org
SUMMARY:Country Dance & Lessons
DESCRIPTION:
URL:https://bouldercityelks1682.org/event/country-dance-lessons/
LOCATION:Elks Lodge #1682\, 1217 Boulder City Parkway\, Boulder City\, NV\, 89005\, United States
CATEGORIES:Non-members Welcome when Accompanied by Member
ATTACH;FMTTYPE=image/jpeg:https://bouldercityelks1682.org/wp-content/uploads/2025-08-22-Country-Dance.jpg
END:VEVENT
END:VCALENDAR