BEGIN:VCALENDAR
VERSION:2.0
PRODID:-//B.P.O. Elks Lodge #1682 - ECPv6.15.20//NONSGML v1.0//EN
CALSCALE:GREGORIAN
METHOD:PUBLISH
X-ORIGINAL-URL:https://bouldercityelks1682.org
X-WR-CALDESC:Events for B.P.O. Elks Lodge #1682
REFRESH-INTERVAL;VALUE=DURATION:PT1H
X-Robots-Tag:noindex
X-PUBLISHED-TTL:PT1H
BEGIN:VTIMEZONE
TZID:America/Los_Angeles
BEGIN:DAYLIGHT
TZOFFSETFROM:-0800
TZOFFSETTO:-0700
TZNAME:PDT
DTSTART:20240310T100000
END:DAYLIGHT
BEGIN:STANDARD
TZOFFSETFROM:-0700
TZOFFSETTO:-0800
TZNAME:PST
DTSTART:20241103T090000
END:STANDARD
BEGIN:DAYLIGHT
TZOFFSETFROM:-0800
TZOFFSETTO:-0700
TZNAME:PDT
DTSTART:20250309T100000
END:DAYLIGHT
BEGIN:STANDARD
TZOFFSETFROM:-0700
TZOFFSETTO:-0800
TZNAME:PST
DTSTART:20251102T090000
END:STANDARD
BEGIN:DAYLIGHT
TZOFFSETFROM:-0800
TZOFFSETTO:-0700
TZNAME:PDT
DTSTART:20260308T100000
END:DAYLIGHT
BEGIN:STANDARD
TZOFFSETFROM:-0700
TZOFFSETTO:-0800
TZNAME:PST
DTSTART:20261101T090000
END:STANDARD
END:VTIMEZONE
BEGIN:VEVENT
DTSTART;TZID=America/Los_Angeles:20251221T143000
DTEND;TZID=America/Los_Angeles:20251221T180000
DTSTAMP:20260423T110522
CREATED:20251204T151500Z
LAST-MODIFIED:20251204T151500Z
UID:10000415-1766327400-1766340000@bouldercityelks1682.org
SUMMARY:BINGO
DESCRIPTION:
URL:https://bouldercityelks1682.org/event/bingo-57/
LOCATION:Elks Lodge #1682\, 1217 Boulder City Parkway\, Boulder City\, NV\, 89005\, United States
CATEGORIES:Non-members Welcome
ATTACH;FMTTYPE=image/jpeg:https://bouldercityelks1682.org/wp-content/uploads/2025-12-21-BINGO.jpg
END:VEVENT
BEGIN:VEVENT
DTSTART;TZID=America/Los_Angeles:20251219T190000
DTEND;TZID=America/Los_Angeles:20251219T220000
DTSTAMP:20260423T110522
CREATED:20251204T151403Z
LAST-MODIFIED:20251204T151403Z
UID:10000414-1766170800-1766181600@bouldercityelks1682.org
SUMMARY:Karaoke with Kathy Wolfe
DESCRIPTION:
URL:https://bouldercityelks1682.org/event/karaoke-with-kathy-wolfe-5/
LOCATION:Elks Lodge #1682\, 1217 Boulder City Parkway\, Boulder City\, NV\, 89005\, United States
CATEGORIES:Non-members Welcome when Accompanied by Member
ATTACH;FMTTYPE=image/jpeg:https://bouldercityelks1682.org/wp-content/uploads/2025-12-19-Karaoke-with-Kathy-Wolfe.jpg
END:VEVENT
BEGIN:VEVENT
DTSTART;TZID=America/Los_Angeles:20251212T173000
DTEND;TZID=America/Los_Angeles:20251212T210000
DTSTAMP:20260423T110522
CREATED:20251204T151253Z
LAST-MODIFIED:20251204T151253Z
UID:10000413-1765560600-1765573200@bouldercityelks1682.org
SUMMARY:Santa's Dinner
DESCRIPTION:
URL:https://bouldercityelks1682.org/event/santas-dinner/
LOCATION:Elks Lodge #1682\, 1217 Boulder City Parkway\, Boulder City\, NV\, 89005\, United States
CATEGORIES:Non-members Welcome when Accompanied by Member
ATTACH;FMTTYPE=image/jpeg:https://bouldercityelks1682.org/wp-content/uploads/2025-12-12-Santas-Dinner.jpg
END:VEVENT
BEGIN:VEVENT
DTSTART;TZID=America/Los_Angeles:20251207T143000
DTEND;TZID=America/Los_Angeles:20251207T180000
DTSTAMP:20260423T110522
CREATED:20251204T150926Z
LAST-MODIFIED:20251204T150926Z
UID:10000411-1765117800-1765130400@bouldercityelks1682.org
SUMMARY:BINGO
DESCRIPTION:
URL:https://bouldercityelks1682.org/event/bingo-56/
LOCATION:Elks Lodge #1682\, 1217 Boulder City Parkway\, Boulder City\, NV\, 89005\, United States
CATEGORIES:Non-members Welcome
ATTACH;FMTTYPE=image/jpeg:https://bouldercityelks1682.org/wp-content/uploads/2025-12-07-BINGO-scaled.jpg
END:VEVENT
BEGIN:VEVENT
DTSTART;TZID=America/Los_Angeles:20251207T110000
DTEND;TZID=America/Los_Angeles:20251207T130000
DTSTAMP:20260423T110522
CREATED:20251204T151112Z
LAST-MODIFIED:20251204T151112Z
UID:10000412-1765105200-1765112400@bouldercityelks1682.org
SUMMARY:Memorial Service
DESCRIPTION:
URL:https://bouldercityelks1682.org/event/memorial-service/
LOCATION:Elks Lodge #1682\, 1217 Boulder City Parkway\, Boulder City\, NV\, 89005\, United States
CATEGORIES:Members Only
ATTACH;FMTTYPE=image/jpeg:https://bouldercityelks1682.org/wp-content/uploads/2025-12-07-Memorial-Service.jpg
END:VEVENT
BEGIN:VEVENT
DTSTART;TZID=America/Los_Angeles:20251205T190000
DTEND;TZID=America/Los_Angeles:20251205T220000
DTSTAMP:20260423T110522
CREATED:20251204T144614Z
LAST-MODIFIED:20251204T144614Z
UID:10000410-1764961200-1764972000@bouldercityelks1682.org
SUMMARY:Karaoke with Santa
DESCRIPTION:
URL:https://bouldercityelks1682.org/event/karaoke-with-santa/
LOCATION:Elks Lodge #1682\, 1217 Boulder City Parkway\, Boulder City\, NV\, 89005\, United States
CATEGORIES:Non-members Welcome when Accompanied by Member
ATTACH;FMTTYPE=image/jpeg:https://bouldercityelks1682.org/wp-content/uploads/2025-12-05-Karaoke-with-Santa.jpg
END:VEVENT
BEGIN:VEVENT
DTSTART;TZID=America/Los_Angeles:20251130T080000
DTEND;TZID=America/Los_Angeles:20251130T220000
DTSTAMP:20260423T110522
CREATED:20251030T144948Z
LAST-MODIFIED:20251030T144948Z
UID:10000408-1764489600-1764540000@bouldercityelks1682.org
SUMMARY:November 2025 Events
DESCRIPTION:
URL:https://bouldercityelks1682.org/event/november-2025-events/
LOCATION:Elks Lodge #1682\, 1217 Boulder City Parkway\, Boulder City\, NV\, 89005\, United States
CATEGORIES:Showcased
ATTACH;FMTTYPE=image/jpeg:https://bouldercityelks1682.org/wp-content/uploads/2025-11-30-November-2025-Events.jpg
END:VEVENT
BEGIN:VEVENT
DTSTART;TZID=America/Los_Angeles:20251127T140000
DTEND;TZID=America/Los_Angeles:20251127T160000
DTSTAMP:20260423T110522
CREATED:20251030T144717Z
LAST-MODIFIED:20251030T144717Z
UID:10000407-1764252000-1764259200@bouldercityelks1682.org
SUMMARY:Thanksgiving Feast for Lodge Families
DESCRIPTION:
URL:https://bouldercityelks1682.org/event/thanksgiving-feast-for-lodge-families/
LOCATION:Elks Lodge #1682\, 1217 Boulder City Parkway\, Boulder City\, NV\, 89005\, United States
CATEGORIES:Members Only
ATTACH;FMTTYPE=image/jpeg:https://bouldercityelks1682.org/wp-content/uploads/2025-11-27-Thanksgiving-Feast.jpg
END:VEVENT
BEGIN:VEVENT
DTSTART;TZID=America/Los_Angeles:20251127T110000
DTEND;TZID=America/Los_Angeles:20251127T130000
DTSTAMP:20260423T110522
CREATED:20251030T144552Z
LAST-MODIFIED:20251030T144813Z
UID:10000406-1764241200-1764248400@bouldercityelks1682.org
SUMMARY:Thanksgiving Feast for Community and Seniors
DESCRIPTION:
URL:https://bouldercityelks1682.org/event/thanksgiving-feast/
LOCATION:Elks Lodge #1682\, 1217 Boulder City Parkway\, Boulder City\, NV\, 89005\, United States
CATEGORIES:Non-members Welcome
ATTACH;FMTTYPE=image/jpeg:https://bouldercityelks1682.org/wp-content/uploads/2025-11-27-Thanksgiving-Feast.jpg
END:VEVENT
BEGIN:VEVENT
DTSTART;TZID=America/Los_Angeles:20251122T180000
DTEND;TZID=America/Los_Angeles:20251122T220000
DTSTAMP:20260423T110522
CREATED:20251030T144403Z
LAST-MODIFIED:20251030T144403Z
UID:10000405-1763834400-1763848800@bouldercityelks1682.org
SUMMARY:The Whiskey Brotherhood
DESCRIPTION:
URL:https://bouldercityelks1682.org/event/the-whiskey-brotherhood/
LOCATION:Elks Lodge #1682\, 1217 Boulder City Parkway\, Boulder City\, NV\, 89005\, United States
CATEGORIES:Non-members Welcome when Accompanied by Member
ATTACH;FMTTYPE=image/jpeg:https://bouldercityelks1682.org/wp-content/uploads/2025-11-22-The-Whiskey-Brotherhood.jpg
END:VEVENT
BEGIN:VEVENT
DTSTART;TZID=America/Los_Angeles:20251121T190000
DTEND;TZID=America/Los_Angeles:20251121T220000
DTSTAMP:20260423T110522
CREATED:20251030T144033Z
LAST-MODIFIED:20251030T144033Z
UID:10000404-1763751600-1763762400@bouldercityelks1682.org
SUMMARY:Karaoke with Kathy Wolfe
DESCRIPTION:
URL:https://bouldercityelks1682.org/event/karaoke-with-kathy-wolfe-4/
LOCATION:Elks Lodge #1682\, 1217 Boulder City Parkway\, Boulder City\, NV\, 89005\, United States
CATEGORIES:Non-members Welcome when Accompanied by Member
ATTACH;FMTTYPE=image/jpeg:https://bouldercityelks1682.org/wp-content/uploads/2025-11-21-Karaoke-with-Kathy-Wolfe.jpg
END:VEVENT
BEGIN:VEVENT
DTSTART;TZID=America/Los_Angeles:20251116T143000
DTEND;TZID=America/Los_Angeles:20251116T180000
DTSTAMP:20260423T110522
CREATED:20251030T143935Z
LAST-MODIFIED:20251030T143935Z
UID:10000403-1763303400-1763316000@bouldercityelks1682.org
SUMMARY:BINGO
DESCRIPTION:
URL:https://bouldercityelks1682.org/event/bingo-55/
LOCATION:Elks Lodge #1682\, 1217 Boulder City Parkway\, Boulder City\, NV\, 89005\, United States
CATEGORIES:Non-members Welcome
ATTACH;FMTTYPE=image/jpeg:https://bouldercityelks1682.org/wp-content/uploads/2025-11-16-BINGO.jpg
END:VEVENT
BEGIN:VEVENT
DTSTART;TZID=America/Los_Angeles:20251114T183000
DTEND;TZID=America/Los_Angeles:20251114T200000
DTSTAMP:20260423T110522
CREATED:20251030T143841Z
LAST-MODIFIED:20251030T143841Z
UID:10000402-1763145000-1763150400@bouldercityelks1682.org
SUMMARY:Trivia Night
DESCRIPTION:
URL:https://bouldercityelks1682.org/event/trivia-night-6/
LOCATION:Elks Lodge #1682\, 1217 Boulder City Parkway\, Boulder City\, NV\, 89005\, United States
CATEGORIES:Non-members Welcome when Accompanied by Member
ATTACH;FMTTYPE=image/jpeg:https://bouldercityelks1682.org/wp-content/uploads/2025-11-14-Trivia-Night.jpg
END:VEVENT
BEGIN:VEVENT
DTSTART;TZID=America/Los_Angeles:20251109T110000
DTEND;TZID=America/Los_Angeles:20251109T130000
DTSTAMP:20260423T110522
CREATED:20251030T143716Z
LAST-MODIFIED:20251030T143716Z
UID:10000401-1762686000-1762693200@bouldercityelks1682.org
SUMMARY:Chuck and Mack's Sunday Brunch
DESCRIPTION:
URL:https://bouldercityelks1682.org/event/chuck-and-macks-sunday-brunch/
LOCATION:Elks Lodge #1682\, 1217 Boulder City Parkway\, Boulder City\, NV\, 89005\, United States
CATEGORIES:Non-members Welcome when Accompanied by Member
ATTACH;FMTTYPE=image/jpeg:https://bouldercityelks1682.org/wp-content/uploads/2025-11-09-Chuck-Macks-Sunday-Brunch.jpg
END:VEVENT
BEGIN:VEVENT
DTSTART;TZID=America/Los_Angeles:20251108T180000
DTEND;TZID=America/Los_Angeles:20251108T220000
DTSTAMP:20260423T110522
CREATED:20251030T143552Z
LAST-MODIFIED:20251030T143552Z
UID:10000400-1762624800-1762639200@bouldercityelks1682.org
SUMMARY:Elks Riders Poker Tournament
DESCRIPTION:
URL:https://bouldercityelks1682.org/event/elks-riders-poker-tournament/
LOCATION:Elks Lodge #1682\, 1217 Boulder City Parkway\, Boulder City\, NV\, 89005\, United States
CATEGORIES:Members Only
ATTACH;FMTTYPE=image/jpeg:https://bouldercityelks1682.org/wp-content/uploads/2025-11-08-Poker-Tournament.jpg
END:VEVENT
BEGIN:VEVENT
DTSTART;TZID=America/Los_Angeles:20251108T080000
DTEND;TZID=America/Los_Angeles:20251108T100000
DTSTAMP:20260423T110522
CREATED:20251030T143436Z
LAST-MODIFIED:20251030T143436Z
UID:10000399-1762588800-1762596000@bouldercityelks1682.org
SUMMARY:Pancakes and Pajamas
DESCRIPTION:
URL:https://bouldercityelks1682.org/event/pancakes-and-pajamas-2/
LOCATION:Elks Lodge #1682\, 1217 Boulder City Parkway\, Boulder City\, NV\, 89005\, United States
CATEGORIES:Non-members Welcome when Accompanied by Member
ATTACH;FMTTYPE=image/jpeg:https://bouldercityelks1682.org/wp-content/uploads/2025-11-08-Pancakes-and-Pajamas.jpg
END:VEVENT
BEGIN:VEVENT
DTSTART;TZID=America/Los_Angeles:20251107T190000
DTEND;TZID=America/Los_Angeles:20251107T220000
DTSTAMP:20260423T110522
CREATED:20251030T135228Z
LAST-MODIFIED:20251030T135228Z
UID:10000398-1762542000-1762552800@bouldercityelks1682.org
SUMMARY:Karaoke with 'H'
DESCRIPTION:
URL:https://bouldercityelks1682.org/event/karaoke-with-h-35/
LOCATION:Elks Lodge #1682\, 1217 Boulder City Parkway\, Boulder City\, NV\, 89005\, United States
CATEGORIES:Non-members Welcome when Accompanied by Member
ATTACH;FMTTYPE=image/jpeg:https://bouldercityelks1682.org/wp-content/uploads/2025-11-07-Karaoke-with-H.jpg
END:VEVENT
BEGIN:VEVENT
DTSTART;TZID=America/Los_Angeles:20251102T143000
DTEND;TZID=America/Los_Angeles:20251102T180000
DTSTAMP:20260423T110522
CREATED:20251030T135127Z
LAST-MODIFIED:20251030T135127Z
UID:10000397-1762093800-1762106400@bouldercityelks1682.org
SUMMARY:BINGO
DESCRIPTION:
URL:https://bouldercityelks1682.org/event/bingo-54/
LOCATION:Elks Lodge #1682\, 1217 Boulder City Parkway\, Boulder City\, NV\, 89005\, United States
CATEGORIES:Non-members Welcome
ATTACH;FMTTYPE=image/jpeg:https://bouldercityelks1682.org/wp-content/uploads/2025-11-02-BINGO.jpg
END:VEVENT
BEGIN:VEVENT
DTSTART;TZID=America/Los_Angeles:20251031T220000
DTEND;TZID=America/Los_Angeles:20251031T220000
DTSTAMP:20260423T110522
CREATED:20250930T112116Z
LAST-MODIFIED:20251002T133844Z
UID:10000392-1761948000-1761948000@bouldercityelks1682.org
SUMMARY:October 2025 Events
DESCRIPTION:
URL:https://bouldercityelks1682.org/event/october-2025-events/
LOCATION:Elks Lodge #1682\, 1217 Boulder City Parkway\, Boulder City\, NV\, 89005\, United States
CATEGORIES:Non-members Welcome when Accompanied by Member,Showcased
ATTACH;FMTTYPE=image/jpeg:https://bouldercityelks1682.org/wp-content/uploads/2025-10-31-October-2025-Events.jpg
END:VEVENT
BEGIN:VEVENT
DTSTART;TZID=America/Los_Angeles:20251031T210000
DTEND;TZID=America/Los_Angeles:20251031T220000
DTSTAMP:20260423T110522
CREATED:20250930T111905Z
LAST-MODIFIED:20251002T133853Z
UID:10000390-1761944400-1761948000@bouldercityelks1682.org
SUMMARY:Happy SockTober
DESCRIPTION:
URL:https://bouldercityelks1682.org/event/happy-socktober/
LOCATION:Elks Lodge #1682\, 1217 Boulder City Parkway\, Boulder City\, NV\, 89005\, United States
CATEGORIES:Non-members Welcome,Showcased
ATTACH;FMTTYPE=image/jpeg:https://bouldercityelks1682.org/wp-content/uploads/2025-10-31-Happy-Socktober.jpg
END:VEVENT
BEGIN:VEVENT
DTSTART;TZID=America/Los_Angeles:20251031T190000
DTEND;TZID=America/Los_Angeles:20251031T220000
DTSTAMP:20260423T110522
CREATED:20250930T112019Z
LAST-MODIFIED:20250930T112326Z
UID:10000391-1761937200-1761948000@bouldercityelks1682.org
SUMMARY:Karaoke with 'H'
DESCRIPTION:
URL:https://bouldercityelks1682.org/event/karaoke-with-h-34/
LOCATION:Elks Lodge #1682\, 1217 Boulder City Parkway\, Boulder City\, NV\, 89005\, United States
CATEGORIES:Non-members Welcome when Accompanied by Member
ATTACH;FMTTYPE=image/jpeg:https://bouldercityelks1682.org/wp-content/uploads/2025-10-31-Karaoke-with-H.jpg
END:VEVENT
BEGIN:VEVENT
DTSTART;TZID=America/Los_Angeles:20251024T190000
DTEND;TZID=America/Los_Angeles:20251024T230000
DTSTAMP:20260423T110522
CREATED:20250930T111436Z
LAST-MODIFIED:20250930T111436Z
UID:10000388-1761332400-1761346800@bouldercityelks1682.org
SUMMARY:Spooky Halloween Potluck
DESCRIPTION:
URL:https://bouldercityelks1682.org/event/spooky-halloween-potluck/
LOCATION:Elks Lodge #1682\, 1217 Boulder City Parkway\, Boulder City\, NV\, 89005\, United States
CATEGORIES:Non-members Welcome when Accompanied by Member
ATTACH;FMTTYPE=image/jpeg:https://bouldercityelks1682.org/wp-content/uploads/2025-10-24-Spooky-Halloween-Potluck.jpg
END:VEVENT
BEGIN:VEVENT
DTSTART;TZID=America/Los_Angeles:20251023T190000
DTEND;TZID=America/Los_Angeles:20251023T190000
DTSTAMP:20260423T110522
CREATED:20250923T000846Z
LAST-MODIFIED:20250923T001200Z
UID:10000381-1761246000-1761246000@bouldercityelks1682.org
SUMMARY:ENF Fundraiser
DESCRIPTION:
URL:https://bouldercityelks1682.org/event/enf-fundraiser-2/
LOCATION:Elks Lodge #1682\, 1217 Boulder City Parkway\, Boulder City\, NV\, 89005\, United States
ATTACH;FMTTYPE=image/jpeg:https://bouldercityelks1682.org/wp-content/uploads/2025-10-23-ENF-Fundraiser.jpg
END:VEVENT
BEGIN:VEVENT
DTSTART;TZID=America/Los_Angeles:20251023T170000
DTEND;TZID=America/Los_Angeles:20251023T190000
DTSTAMP:20260423T110522
CREATED:20251006T205258Z
LAST-MODIFIED:20251006T205258Z
UID:10000395-1761238800-1761246000@bouldercityelks1682.org
SUMMARY:Tacos are Back!
DESCRIPTION:
URL:https://bouldercityelks1682.org/event/tacos-are-back-2/
LOCATION:Elks Lodge #1682\, 1217 Boulder City Parkway\, Boulder City\, NV\, 89005\, United States
CATEGORIES:Non-members Welcome when Accompanied by Member
ATTACH;FMTTYPE=image/jpeg:https://bouldercityelks1682.org/wp-content/uploads/2025-10-23-Tacos-are-back.jpg
END:VEVENT
BEGIN:VEVENT
DTSTART;TZID=America/Los_Angeles:20251022T180000
DTEND;TZID=America/Los_Angeles:20251022T190000
DTSTAMP:20260423T110522
CREATED:20250930T111247Z
LAST-MODIFIED:20250930T111247Z
UID:10000387-1761156000-1761159600@bouldercityelks1682.org
SUMMARY:Three Elks with Noodles
DESCRIPTION:
URL:https://bouldercityelks1682.org/event/three-elks-with-noodles-22/
LOCATION:Elks Lodge #1682\, 1217 Boulder City Parkway\, Boulder City\, NV\, 89005\, United States
CATEGORIES:Non-members Welcome when Accompanied by Member
ATTACH;FMTTYPE=image/jpeg:https://bouldercityelks1682.org/wp-content/uploads/2025-10-22-Three-Elks-with-Noodles.jpg
END:VEVENT
BEGIN:VEVENT
DTSTART;TZID=America/Los_Angeles:20251019T143000
DTEND;TZID=America/Los_Angeles:20251019T180000
DTSTAMP:20260423T110522
CREATED:20250929T230806Z
LAST-MODIFIED:20250929T230806Z
UID:10000386-1760884200-1760896800@bouldercityelks1682.org
SUMMARY:BINGO
DESCRIPTION:
URL:https://bouldercityelks1682.org/event/bingo-53/
LOCATION:Elks Lodge #1682\, 1217 Boulder City Parkway\, Boulder City\, NV\, 89005\, United States
CATEGORIES:Non-members Welcome
ATTACH;FMTTYPE=image/jpeg:https://bouldercityelks1682.org/wp-content/uploads/2025-10-19-BINGO.jpg
END:VEVENT
BEGIN:VEVENT
DTSTART;TZID=America/Los_Angeles:20251017T190000
DTEND;TZID=America/Los_Angeles:20251017T220000
DTSTAMP:20260423T110522
CREATED:20250929T230612Z
LAST-MODIFIED:20250929T230612Z
UID:10000385-1760727600-1760738400@bouldercityelks1682.org
SUMMARY:Karaoke with Kathy Wolfe
DESCRIPTION:
URL:https://bouldercityelks1682.org/event/karaoke-with-kathy-wolfe-3/
LOCATION:Elks Lodge #1682\, 1217 Boulder City Parkway\, Boulder City\, NV\, 89005\, United States
CATEGORIES:Non-members Welcome when Accompanied by Member
ATTACH;FMTTYPE=image/jpeg:https://bouldercityelks1682.org/wp-content/uploads/2025-10-17-Karaoke-with-Kathy-Wolfe.jpg
END:VEVENT
BEGIN:VEVENT
DTSTART;TZID=America/Los_Angeles:20251012T110000
DTEND;TZID=America/Los_Angeles:20251012T130000
DTSTAMP:20260423T110522
CREATED:20251006T205140Z
LAST-MODIFIED:20251006T205140Z
UID:10000394-1760266800-1760274000@bouldercityelks1682.org
SUMMARY:Chuck & Mack's Sunday Brunch
DESCRIPTION:
URL:https://bouldercityelks1682.org/event/chuck-macks-sunday-brunch/
LOCATION:Elks Lodge #1682\, 1217 Boulder City Parkway\, Boulder City\, NV\, 89005\, United States
CATEGORIES:Non-members Welcome when Accompanied by Member
ATTACH;FMTTYPE=image/jpeg:https://bouldercityelks1682.org/wp-content/uploads/2025-10-12-Chuck-Macks-Brunch.jpg
END:VEVENT
BEGIN:VEVENT
DTSTART;TZID=America/Los_Angeles:20251010T183000
DTEND;TZID=America/Los_Angeles:20251010T200000
DTSTAMP:20260423T110522
CREATED:20250929T230414Z
LAST-MODIFIED:20250929T230414Z
UID:10000384-1760121000-1760126400@bouldercityelks1682.org
SUMMARY:October Trivia
DESCRIPTION:
URL:https://bouldercityelks1682.org/event/october-trivia/
LOCATION:Elks Lodge #1682\, 1217 Boulder City Parkway\, Boulder City\, NV\, 89005\, United States
CATEGORIES:Non-members Welcome when Accompanied by Member
ATTACH;FMTTYPE=image/jpeg:https://bouldercityelks1682.org/wp-content/uploads/2025-10-10-October-Trivia.jpg
END:VEVENT
BEGIN:VEVENT
DTSTART;TZID=America/Los_Angeles:20251010T170000
DTEND;TZID=America/Los_Angeles:20251010T183000
DTSTAMP:20260423T110522
CREATED:20250929T230124Z
LAST-MODIFIED:20250929T230124Z
UID:10000383-1760115600-1760121000@bouldercityelks1682.org
SUMMARY:DeRosa's Pizza
DESCRIPTION:
URL:https://bouldercityelks1682.org/event/derosas-pizza-10/
LOCATION:Elks Lodge #1682\, 1217 Boulder City Parkway\, Boulder City\, NV\, 89005\, United States
CATEGORIES:Non-members Welcome when Accompanied by Member
ATTACH;FMTTYPE=image/jpeg:https://bouldercityelks1682.org/wp-content/uploads/2025-10-10-DeRosas-Pizza.jpg
END:VEVENT
END:VCALENDAR